BEGIN:VCALENDAR
VERSION:2.0
PRODID:-//Czech National Semiconductor Cluster - ECPv6.15.18//NONSGML v1.0//EN
CALSCALE:GREGORIAN
METHOD:PUBLISH
X-WR-CALNAME:Czech National Semiconductor Cluster
X-ORIGINAL-URL:https://www.semicz.cz
X-WR-CALDESC:Events for Czech National Semiconductor Cluster
REFRESH-INTERVAL;VALUE=DURATION:PT1H
X-Robots-Tag:noindex
X-PUBLISHED-TTL:PT1H
BEGIN:VTIMEZONE
TZID:Europe/Prague
BEGIN:DAYLIGHT
TZOFFSETFROM:+0100
TZOFFSETTO:+0200
TZNAME:CEST
DTSTART:20250330T010000
END:DAYLIGHT
BEGIN:STANDARD
TZOFFSETFROM:+0200
TZOFFSETTO:+0100
TZNAME:CET
DTSTART:20251026T010000
END:STANDARD
BEGIN:DAYLIGHT
TZOFFSETFROM:+0100
TZOFFSETTO:+0200
TZNAME:CEST
DTSTART:20260329T010000
END:DAYLIGHT
BEGIN:STANDARD
TZOFFSETFROM:+0200
TZOFFSETTO:+0100
TZNAME:CET
DTSTART:20261025T010000
END:STANDARD
BEGIN:DAYLIGHT
TZOFFSETFROM:+0100
TZOFFSETTO:+0200
TZNAME:CEST
DTSTART:20270328T010000
END:DAYLIGHT
BEGIN:STANDARD
TZOFFSETFROM:+0200
TZOFFSETTO:+0100
TZNAME:CET
DTSTART:20271031T010000
END:STANDARD
END:VTIMEZONE
BEGIN:VEVENT
DTSTART;VALUE=DATE:20260518
DTEND;VALUE=DATE:20260523
DTSTAMP:20260425T144421
CREATED:20260331T210724Z
LAST-MODIFIED:20260331T212336Z
UID:2257-1779062400-1779494399@www.semicz.cz
SUMMARY:Czech Semicon Days 2026
DESCRIPTION:Join us at Czech Semicon Days 2026\, one of the key events for the semiconductor sector in Central Europe. \nPlatform for comprehensive discussions on the semiconductor industry in Czechia and its global context. \nThe programme of Czech Semicon Days 2026 will begin on 18–19 May in Prague\, bringing together industry leaders\, policymakers\, investors and researchers to discuss the future of semiconductors and their role in next-generation mobility. The first day at Bohemia Pavilion\, Výstaviště Prague will feature specialised ecosystem events such as Supplier Day\, focused on strengthening connections across the semiconductor supply chain\, followed by the Czech Semiconductor Ecosystem Development Day\, dedicated to advancing the national semiconductor ecosystem and improving regional readiness to attract new industry investments. On 19 May\, the main conference Czech Investment Forum: Semiconductors for Future Mobility will take place in the historic Fantova Building at Prague’s main railway station\, with keynote speeches\, expert presentations and panel discussions on industry–academia collaboration\, semiconductor innovation hubs and resilient European semiconductor ecosystems. The programme will then continue on 20 May in Brno at the Advanced Chip Design Research Center (ACDRC)\, where participants will gain direct insight into advanced research and collaboration opportunities in semiconductor design and innovation. This will be followed by additional accompanying events and networking activities throughout the week\, providing further opportunities for industry partners\, researchers and policymakers to deepen collaboration\, explore investment opportunities and strengthen the Czech Republic’s role within the European semiconductor value chain. \nMore information: czechsemicondays.com
URL:https://www.semicz.cz/event/czech-semicon-days-2026/
LOCATION:Prague\, Prague\, Czech Republic
ATTACH;FMTTYPE=image/webp:https://www.semicz.cz/wp-content/uploads/2026/03/sdays.webp
END:VEVENT
BEGIN:VEVENT
DTSTART;VALUE=DATE:20260522
DTEND;VALUE=DATE:20260523
DTSTAMP:20260425T144421
CREATED:20260331T211501Z
LAST-MODIFIED:20260331T212043Z
UID:2261-1779408000-1779494399@www.semicz.cz
SUMMARY:CÉRKA DESIGN FORUM
DESCRIPTION:Podnikatelský inovační ekosystém se zaměřením na polovodiče
URL:https://www.semicz.cz/event/cerka-design-forum/
LOCATION:Lokalita Cérka\, Trojanovice\, Czech Republic
ATTACH;FMTTYPE=image/webp:https://www.semicz.cz/wp-content/uploads/2026/03/cerka.webp
END:VEVENT
END:VCALENDAR